BEGIN:VCALENDAR
VERSION:2.0
PRODID:-//wp-events-plugin.com//6.6.3//EN
BEGIN:VEVENT
UID:86@ci-training.com.mx
DTSTART:20260506T000000Z
DTEND:20260508T040000Z
DTSTAMP:20260421T145857Z
URL:https://ci-training.com.mx/eventos/de-jefe-a-lider-coach-2/
SUMMARY:De Jefe a Líder COACH
DESCRIPTION:Curso de Liderazgo aplicado.
ATTACH;FMTTYPE=image/jpeg:https://ci-training.com.mx/wp-content/uploads/20
 26/03/DE-JEFE-A-LIDER-e1776783524364.png
CATEGORIES:Online
END:VEVENT
END:VCALENDAR